BEGIN:VCALENDAR
VERSION:2.0
PRODID:-// - ECPv6.15.20//NONSGML v1.0//EN
CALSCALE:GREGORIAN
METHOD:PUBLISH
X-ORIGINAL-URL:https://lindyhopmke.com
X-WR-CALDESC:Events for 
REFRESH-INTERVAL;VALUE=DURATION:PT1H
X-Robots-Tag:noindex
X-PUBLISHED-TTL:PT1H
BEGIN:VTIMEZONE
TZID:America/Chicago
BEGIN:DAYLIGHT
TZOFFSETFROM:-0600
TZOFFSETTO:-0500
TZNAME:CDT
DTSTART:20250309T080000
END:DAYLIGHT
BEGIN:STANDARD
TZOFFSETFROM:-0500
TZOFFSETTO:-0600
TZNAME:CST
DTSTART:20251102T070000
END:STANDARD
BEGIN:DAYLIGHT
TZOFFSETFROM:-0600
TZOFFSETTO:-0500
TZNAME:CDT
DTSTART:20260308T080000
END:DAYLIGHT
BEGIN:STANDARD
TZOFFSETFROM:-0500
TZOFFSETTO:-0600
TZNAME:CST
DTSTART:20261101T070000
END:STANDARD
BEGIN:DAYLIGHT
TZOFFSETFROM:-0600
TZOFFSETTO:-0500
TZNAME:CDT
DTSTART:20270314T080000
END:DAYLIGHT
BEGIN:STANDARD
TZOFFSETFROM:-0500
TZOFFSETTO:-0600
TZNAME:CST
DTSTART:20271107T070000
END:STANDARD
END:VTIMEZONE
BEGIN:VEVENT
DTSTART;TZID=America/Chicago:20260425T153000
DTEND;TZID=America/Chicago:20260425T163000
DTSTAMP:20260421T040800
CREATED:20260317T210208Z
LAST-MODIFIED:20260317T210211Z
UID:1643-1777131000-1777134600@lindyhopmke.com
SUMMARY:Beginners Plus 4-week Series- All Things Triple Step
DESCRIPTION:This 4-week progressive class is for beginners+ who are comfortable with the basic 6-count swing steps and ready to learn “All Things Triple Step”.  We will break down the fundamentals\, timing\, and feel of the triple step — one of the core building blocks of Lindy Hop — and show you how to use it with the classic Lindy Hop variations. Registration Required.  \n\n\n\nClasses: 4/4\, 4/11\, 4/18\, 4/25
URL:https://lindyhopmke.com/event/beginners-plus-4-week-series-all-things-triple-step-4/
LOCATION:The Delaware House\, 2499 S Delaware Ave\, Milwaukee\, Wisconsin\, 53207\, United States
ATTACH;FMTTYPE=image/jpeg:https://lindyhopmke.com/wp-content/uploads/2026/03/Photoroom_20260316_210822.jpg
END:VEVENT
BEGIN:VEVENT
DTSTART;TZID=America/Chicago:20260425T163000
DTEND;TZID=America/Chicago:20260425T183000
DTSTAMP:20260421T040800
CREATED:20260315T191737Z
LAST-MODIFIED:20260324T214545Z
UID:1628-1777134600-1777141800@lindyhopmke.com
SUMMARY:Performance Group Class - Flash Mob
DESCRIPTION:Attention all Lindy Hoppers! This is your chance to learn 2 routines & perform at the World Lindy Hop Day Flash Mob event in Milwaukee! This class will start on March 21st and it will run for 8 sessions. You will learn Frankie Manning’s version of the Big Apple\, along with the ever-popular Shim Sham! We want all of the Milwaukee area dancers to join us on May 25th\, 2026 for a celebratory Flash Mob celebrating World Lindy Hop Day! This is a perfect opportunity to learn or brush up on many iconic solo jazz moves and be a part of our amazing community! Open to all dance levels. Recorded videos of the classes will be available for those who are not able to attend In-Person. (Put “In-Person” or “Video” in the Dance Role Field) \n\n\n\n3/21\, 3/28*\, 4/4\, 4/11\, 4/18\, 4/25\, 5/2\, 5/9 (*5:30-6:30pm time change)
URL:https://lindyhopmke.com/event/performance-group-class-flash-mob-4/
LOCATION:The Delaware House\, 2499 S Delaware Ave\, Milwaukee\, Wisconsin\, 53207\, United States
ATTACH;FMTTYPE=image/png:https://lindyhopmke.com/wp-content/uploads/2026/02/Purple-and-Blue-Illustrative-Dance-Competition-Flyer.png
END:VEVENT
BEGIN:VEVENT
DTSTART;TZID=America/Chicago:20260502T153000
DTEND;TZID=America/Chicago:20260502T163000
DTSTAMP:20260421T040800
CREATED:20260409T170707Z
LAST-MODIFIED:20260409T172031Z
UID:1689-1777735800-1777739400@lindyhopmke.com
SUMMARY:Beginner Plus 4-week series- 8 Count: Swingouts
DESCRIPTION:This 4-week progressive class is for beginners+ who are comfortable with the basic 6-count and triple steps.  Take your swing dancing to the next level by learning the fundamental move in Lindy Hop: the Swingout! We will bridge the gap between 6-count and 8-count and focus on how to stay connected with your partner and give you the confidence to use the swingout on the social dance floor. No Partner required-Come ready to rotate\, learn and dance!   \n\n\n\nClasses: 5/2\, 5/9\, 5/16\, 5/23
URL:https://lindyhopmke.com/event/beginner-plus-4-week-series-8-count-swingouts/
LOCATION:The Delaware House\, 2499 S Delaware Ave\, Milwaukee\, Wisconsin\, 53207\, United States
ATTACH;FMTTYPE=image/jpeg:https://lindyhopmke.com/wp-content/uploads/2026/04/Photoroom_20260409_102958.jpg
END:VEVENT
BEGIN:VEVENT
DTSTART;TZID=America/Chicago:20260502T163000
DTEND;TZID=America/Chicago:20260502T173000
DTSTAMP:20260421T040800
CREATED:20260409T164204Z
LAST-MODIFIED:20260420T185131Z
UID:1679-1777739400-1777743000@lindyhopmke.com
SUMMARY:Shim Sham Workshop
DESCRIPTION:We are opening up our regular Saturday performance group class to give everyone an opportunity to learn the Shim Sham!  The Shim Sham is a famous\, beginner-friendly\, solo jazz line dance that was created in 1927 and revised by Frankie Manning in the mid-1980’s.  This workshop will be two 1-Hr classes on 5/2 and 5/9.  This is your opportunity to learn and be confident dancing the Shim Sham at our annual Shim Sham event on May 25th\, 2026 for World Lindy Hop Day.
URL:https://lindyhopmke.com/event/shim-sham-workshop/
LOCATION:The Delaware House\, 2499 S Delaware Ave\, Milwaukee\, Wisconsin\, 53207\, United States
ATTACH;FMTTYPE=image/jpeg:https://lindyhopmke.com/wp-content/uploads/2026/04/Photoroom_20260420_113706.jpg
END:VEVENT
BEGIN:VEVENT
DTSTART;TZID=America/Chicago:20260502T163000
DTEND;TZID=America/Chicago:20260502T173000
DTSTAMP:20260421T040800
CREATED:20260409T164755Z
LAST-MODIFIED:20260409T165450Z
UID:1685-1777739400-1777743000@lindyhopmke.com
SUMMARY:Performance Group Class- Flash Mob
DESCRIPTION:Attention all Lindy Hoppers! This is your chance to learn 2 routines & perform at the World Lindy Hop Day Flash Mob event in Milwaukee! This class will start on March 21st and it will run for 8 sessions. You will learn Frankie Manning’s version of the Big Apple\, along with the ever-popular Shim Sham! We want all of the Milwaukee area dancers to join us on May 25th\, 2026 for a celebratory Flash Mob celebrating World Lindy Hop Day! This is a perfect opportunity to learn or brush up on many iconic solo jazz moves and be a part of our amazing community! Open to all dance levels. Recorded videos of the classes will be available for those who are not able to attend In-Person. (Put “In-Person” or “Video” in the Dance Role Field) \n\n\n\n3/21\, 3/28*\, 4/4\, 4/11\, 4/18\, 4/25\, 5/2\, 5/9 (*5:30-6:30pm time change)
URL:https://lindyhopmke.com/event/performance-group-class-flash-mob-5/
LOCATION:The Delaware House\, 2499 S Delaware Ave\, Milwaukee\, Wisconsin\, 53207\, United States
ATTACH;FMTTYPE=image/png:https://lindyhopmke.com/wp-content/uploads/2026/02/Purple-and-Blue-Illustrative-Dance-Competition-Flyer.png
END:VEVENT
BEGIN:VEVENT
DTSTART;TZID=America/Chicago:20260509T153000
DTEND;TZID=America/Chicago:20260509T163000
DTSTAMP:20260421T040800
CREATED:20260409T171009Z
LAST-MODIFIED:20260409T171012Z
UID:1692-1778340600-1778344200@lindyhopmke.com
SUMMARY:Beginner Plus 4-week series- 8-count: Swingouts
DESCRIPTION:This 4-week progressive class is for beginners+ who are comfortable with the basic 6-count and triple steps.  Take your swing dancing to the next level by learning the fundamental move in Lindy Hop: the Swingout! We will bridge the gap between 6-count and 8-count and focus on how to stay connected with your partner and give you the confidence to use the swingout on the social dance floor. No Partner required-Come ready to rotate\, learn and dance!   \n\n\n\nClasses: 5/2\, 5/9\, 5/16\, 5/23
URL:https://lindyhopmke.com/event/beginner-plus-4-week-series-8-count-swingouts-2/
LOCATION:The Delaware House\, 2499 S Delaware Ave\, Milwaukee\, Wisconsin\, 53207\, United States
ATTACH;FMTTYPE=image/jpeg:https://lindyhopmke.com/wp-content/uploads/2026/04/Photoroom_20260409_102958.jpg
END:VEVENT
BEGIN:VEVENT
DTSTART;TZID=America/Chicago:20260509T163000
DTEND;TZID=America/Chicago:20260509T173000
DTSTAMP:20260421T040800
CREATED:20260409T164414Z
LAST-MODIFIED:20260420T185233Z
UID:1683-1778344200-1778347800@lindyhopmke.com
SUMMARY:Shim Sham Workshop
DESCRIPTION:We are opening up our regular Saturday performance group class to give everyone an opportunity to learn the Shim Sham!  The Shim Sham is a famous\, beginner-friendly\, solo jazz line dance that was created in 1927 and revised by Frankie Manning in the mid-1980’s.  This workshop will be two 1-Hr classes on 5/2 and 5/9.  This is your opportunity to learn and be confident dancing the Shim Sham at our annual Shim Sham event on May 25th\, 2026 for World Lindy Hop Day.
URL:https://lindyhopmke.com/event/shim-sham-workshop-2/
LOCATION:The Delaware House\, 2499 S Delaware Ave\, Milwaukee\, Wisconsin\, 53207\, United States
ATTACH;FMTTYPE=image/jpeg:https://lindyhopmke.com/wp-content/uploads/2026/04/Photoroom_20260420_113706.jpg
END:VEVENT
BEGIN:VEVENT
DTSTART;TZID=America/Chicago:20260509T163000
DTEND;TZID=America/Chicago:20260509T173000
DTSTAMP:20260421T040800
CREATED:20260409T165141Z
LAST-MODIFIED:20260409T165601Z
UID:1687-1778344200-1778347800@lindyhopmke.com
SUMMARY:Performance Group Class- Flash Mob
DESCRIPTION:Attention all Lindy Hoppers! This is your chance to learn 2 routines & perform at the World Lindy Hop Day Flash Mob event in Milwaukee! This class will start on March 21st and it will run for 8 sessions. You will learn Frankie Manning’s version of the Big Apple\, along with the ever-popular Shim Sham! We want all of the Milwaukee area dancers to join us on May 25th\, 2026 for a celebratory Flash Mob celebrating World Lindy Hop Day! This is a perfect opportunity to learn or brush up on many iconic solo jazz moves and be a part of our amazing community! Open to all dance levels. Recorded videos of the classes will be available for those who are not able to attend In-Person. (Put “In-Person” or “Video” in the Dance Role Field) \n\n\n\n3/21\, 3/28*\, 4/4\, 4/11\, 4/18\, 4/25\, 5/2\, 5/9 (*5:30-6:30pm time change)
URL:https://lindyhopmke.com/event/performance-group-class-flash-mob-6/
LOCATION:The Delaware House\, 2499 S Delaware Ave\, Milwaukee\, Wisconsin\, 53207\, United States
ATTACH;FMTTYPE=image/png:https://lindyhopmke.com/wp-content/uploads/2026/02/Purple-and-Blue-Illustrative-Dance-Competition-Flyer.png
END:VEVENT
BEGIN:VEVENT
DTSTART;TZID=America/Chicago:20260516T153000
DTEND;TZID=America/Chicago:20260516T163000
DTSTAMP:20260421T040800
CREATED:20260409T171545Z
LAST-MODIFIED:20260409T171549Z
UID:1695-1778945400-1778949000@lindyhopmke.com
SUMMARY:Beginner Plus 4-week series- 8-count: Swingouts
DESCRIPTION:This 4-week progressive class is for beginners+ who are comfortable with the basic 6-count and triple steps.  Take your swing dancing to the next level by learning the fundamental move in Lindy Hop: the Swingout! We will bridge the gap between 6-count and 8-count and focus on how to stay connected with your partner and give you the confidence to use the swingout on the social dance floor. No Partner required-Come ready to rotate\, learn and dance!   \n\n\n\nClasses: 5/2\, 5/9\, 5/16\, 5/23
URL:https://lindyhopmke.com/event/beginner-plus-4-week-series-8-count-swingouts-3/
LOCATION:The Delaware House\, 2499 S Delaware Ave\, Milwaukee\, Wisconsin\, 53207\, United States
ATTACH;FMTTYPE=image/jpeg:https://lindyhopmke.com/wp-content/uploads/2026/04/Photoroom_20260409_102958.jpg
END:VEVENT
BEGIN:VEVENT
DTSTART;TZID=America/Chicago:20260523T153000
DTEND;TZID=America/Chicago:20260523T163000
DTSTAMP:20260421T040800
CREATED:20260409T171754Z
LAST-MODIFIED:20260409T171757Z
UID:1697-1779550200-1779553800@lindyhopmke.com
SUMMARY:Beginner Plus 4-week series- 8-count: Swingouts
DESCRIPTION:This 4-week progressive class is for beginners+ who are comfortable with the basic 6-count and triple steps.  Take your swing dancing to the next level by learning the fundamental move in Lindy Hop: the Swingout! We will bridge the gap between 6-count and 8-count and focus on how to stay connected with your partner and give you the confidence to use the swingout on the social dance floor. No Partner required-Come ready to rotate\, learn and dance!   \n\n\n\nClasses: 5/2\, 5/9\, 5/16\, 5/23
URL:https://lindyhopmke.com/event/beginner-plus-4-week-series-8-count-swingouts-4/
LOCATION:The Delaware House\, 2499 S Delaware Ave\, Milwaukee\, Wisconsin\, 53207\, United States
ATTACH;FMTTYPE=image/jpeg:https://lindyhopmke.com/wp-content/uploads/2026/04/Photoroom_20260409_102958.jpg
END:VEVENT
BEGIN:VEVENT
DTSTART;TZID=America/Chicago:20260525T120000
DTEND;TZID=America/Chicago:20260525T120000
DTSTAMP:20260421T040800
CREATED:20260420T195113Z
LAST-MODIFIED:20260420T195114Z
UID:1702-1779710400-1779710400@lindyhopmke.com
SUMMARY:World Lindy Hop Day - Milwaukee Shim Sham Flash Mob Tour
DESCRIPTION:Calling all Shim-Sham-ers! To Celebrate World Lindy Hop Day\, we will be gathering at various locations around Milwaukee to dance the Shim Sham! \n\n\n\n\nMeet up @ The Calling sculpture (the big orange starburst) at 12:00pm\, on Memorial Day\, 5/25\n\n\n\nOur first Shim Sham dance will start at 12:15pm\n\n\n\nWe will then walk to the Art Museum via the bridge over N. Lincoln Memorial Dr. and dance the Sham Sham in front of the Calatrava and then again around the back of the Art Museum \n\n\n\nOur final Shim Sham dance will be at the War Memorial Beer Garden where we will stay to grab a cold beverage and toast to Frankie Manning and celebrate our love for Lindy Hop! \n\n\n\nSocial dance to follow at the Beer Garden! \n\n\n\n\nParking is available at the parking garage off E. Michigan St. near our starting point\, or at the War Memorial parking lot where our tour ends. \n\n\n\nNeed to learn the Shim Sham or need a refresher?  Come to our Two-Part Shim Sham workshop on 5/2 & 5/9 from 4:30-5:30pm at the Delaware House ($15/workshop). See event for details.
URL:https://lindyhopmke.com/event/world-lindy-hop-day-milwaukee-shim-sham-flash-mob-tour/
LOCATION:The Calling Sculpture\, 900 E. Wisconsin Ave.\, Milwaukee\, 53202
ATTACH;FMTTYPE=image/png:https://lindyhopmke.com/wp-content/uploads/2026/04/Milwaukee-Flash-Mob-2026.png
END:VEVENT
END:VCALENDAR